BEGIN:VCALENDAR
VERSION:2.0
PRODID:-//Maxim Roofing LTD - ECPv5.14.0.4//NONSGML v1.0//EN
CALSCALE:GREGORIAN
METHOD:PUBLISH
X-WR-CALNAME:Maxim Roofing LTD
X-ORIGINAL-URL:https://maximroofing.ca
X-WR-CALDESC:Events for Maxim Roofing LTD
REFRESH-INTERVAL;VALUE=DURATION:PT1H
X-Robots-Tag:noindex
X-PUBLISHED-TTL:PT1H
BEGIN:VTIMEZONE
TZID:UTC
BEGIN:STANDARD
TZOFFSETFROM:+0000
TZOFFSETTO:+0000
TZNAME:UTC
DTSTART:20200101T000000
END:STANDARD
END:VTIMEZONE
BEGIN:VEVENT
DTSTART;TZID=UTC:20201214T080000
DTEND;TZID=UTC:20201214T170000
DTSTAMP:20260422T222622
CREATED:20170523T101402Z
LAST-MODIFIED:20191226T080647Z
UID:419-1607932800-1607965200@maximroofing.ca
SUMMARY:Reliable Service You Can Trust!
DESCRIPTION:Sed vel tellus quis ipsum condimentum suscipit. Nunc pretium luctus ullamcorper. Aenean et leo fringilla\, vehicula nisi sed\, malesuada lectus. Donec facilisis vitae tortor vel venenatis. Praesent in tortor dolor. Mauris eget nunc eget dolor tristique tincidunt at vitae nulla. Nunc leo ex\, hendrerit tincidunt mauris eu\, convallis luctus est. Phasellus nec facilisis mauris. Suspendisse augue dui\, rutrum non congue congue\, lobortis et mauris. Vivamus scelerisque tincidunt mi\, at molestie lorem maximus sed. In dignissim faucibus ornare. Mauris dignissim dui convallis neque mattis euismod. Interdum et malesuada fames ac ante ipsum primis in faucibus. Sed accumsan maximus semper. \nMaecenas in urna viverra\, posuere odio sed\, congue metus. Curabitur nec ipsum dolor. Donec augue ex\, faucibus a finibus id\, sodales at turpis. Phasellus et condimentum magna\, vel bibendum massa. Phasellus nec felis finibus\, mollis nulla quis\, scelerisque ligula. Maecenas nec fringilla felis\, id iaculis tortor. Morbi lobortis elit nisi\, nec eleifend massa mattis et. Donec sed risus et turpis rutrum scelerisque. Aenean nec ipsum quis tortor bibendum facilisis. Quisque vulputate dignissim elementum. Nullam vulputate fringilla malesuada. Pellentesque lacus ante\, finibus eget ligula ac\, iaculis suscipit lectus. Aliquam sit amet erat in dui pulvinar vulputate a eu odio.
URL:https://maximroofing.ca/event/reliable-service-you-can-trust/
LOCATION:City Plaza\, 350 5th Ave\, New York\, NY\, 10118\, United States
ATTACH;FMTTYPE=image/jpeg:https://maximroofing.ca/wp-content/uploads/2017/05/image-11.jpg
ORGANIZER;CN="Roofing%20Company":MAILTO:name@example.com
END:VEVENT
BEGIN:VEVENT
DTSTART;TZID=UTC:20201116T133000
DTEND;TZID=UTC:20201124T190000
DTSTAMP:20260422T222622
CREATED:20170523T103401Z
LAST-MODIFIED:20191226T080707Z
UID:426-1605533400-1606244400@maximroofing.ca
SUMMARY:Using the Best Roofing Materials
DESCRIPTION:Sed vel tellus quis ipsum condimentum suscipit. Nunc pretium luctus ullamcorper. Aenean et leo fringilla\, vehicula nisi sed\, malesuada lectus. Donec facilisis vitae tortor vel venenatis. Praesent in tortor dolor. Mauris eget nunc eget dolor tristique tincidunt at vitae nulla. Nunc leo ex\, hendrerit tincidunt mauris eu\, convallis luctus est. Phasellus nec facilisis mauris. Suspendisse augue dui\, rutrum non congue congue\, lobortis et mauris. Vivamus scelerisque tincidunt mi\, at molestie lorem maximus sed. In dignissim faucibus ornare. Mauris dignissim dui convallis neque mattis euismod. Interdum et malesuada fames ac ante ipsum primis in faucibus. Sed accumsan maximus semper. \nMaecenas in urna viverra\, posuere odio sed\, congue metus. Curabitur nec ipsum dolor. Donec augue ex\, faucibus a finibus id\, sodales at turpis. Phasellus et condimentum magna\, vel bibendum massa. Phasellus nec felis finibus\, mollis nulla quis\, scelerisque ligula. Maecenas nec fringilla felis\, id iaculis tortor. Morbi lobortis elit nisi\, nec eleifend massa mattis et. Donec sed risus et turpis rutrum scelerisque. Aenean nec ipsum quis tortor bibendum facilisis. Quisque vulputate dignissim elementum. Nullam vulputate fringilla malesuada. Pellentesque lacus ante\, finibus eget ligula ac\, iaculis suscipit lectus. Aliquam sit amet erat in dui pulvinar vulputate a eu odio.
URL:https://maximroofing.ca/event/using-the-best-roofing-materials/
LOCATION:City Plaza\, 350 5th Ave\, New York\, NY\, 10118\, United States
ATTACH;FMTTYPE=image/jpeg:https://maximroofing.ca/wp-content/uploads/2017/05/image-8.jpg
ORGANIZER;CN="Roofing%20Company":MAILTO:name@example.com
END:VEVENT
BEGIN:VEVENT
DTSTART;TZID=UTC:20201019T100000
DTEND;TZID=UTC:20201028T160000
DTSTAMP:20260422T222622
CREATED:20170523T103259Z
LAST-MODIFIED:20191226T080717Z
UID:424-1603101600-1603900800@maximroofing.ca
SUMMARY:Make Your Roofing Experience Positive
DESCRIPTION:Sed vel tellus quis ipsum condimentum suscipit. Nunc pretium luctus ullamcorper. Aenean et leo fringilla\, vehicula nisi sed\, malesuada lectus. Donec facilisis vitae tortor vel venenatis. Praesent in tortor dolor. Mauris eget nunc eget dolor tristique tincidunt at vitae nulla. Nunc leo ex\, hendrerit tincidunt mauris eu\, convallis luctus est. Phasellus nec facilisis mauris. Suspendisse augue dui\, rutrum non congue congue\, lobortis et mauris. Vivamus scelerisque tincidunt mi\, at molestie lorem maximus sed. In dignissim faucibus ornare. Mauris dignissim dui convallis neque mattis euismod. Interdum et malesuada fames ac ante ipsum primis in faucibus. Sed accumsan maximus semper. \nMaecenas in urna viverra\, posuere odio sed\, congue metus. Curabitur nec ipsum dolor. Donec augue ex\, faucibus a finibus id\, sodales at turpis. Phasellus et condimentum magna\, vel bibendum massa. Phasellus nec felis finibus\, mollis nulla quis\, scelerisque ligula. Maecenas nec fringilla felis\, id iaculis tortor. Morbi lobortis elit nisi\, nec eleifend massa mattis et. Donec sed risus et turpis rutrum scelerisque. Aenean nec ipsum quis tortor bibendum facilisis. Quisque vulputate dignissim elementum. Nullam vulputate fringilla malesuada. Pellentesque lacus ante\, finibus eget ligula ac\, iaculis suscipit lectus. Aliquam sit amet erat in dui pulvinar vulputate a eu odio.
URL:https://maximroofing.ca/event/make-your-roofing-experience-positive/
LOCATION:City Plaza\, 350 5th Ave\, New York\, NY\, 10118\, United States
ATTACH;FMTTYPE=image/jpeg:https://maximroofing.ca/wp-content/uploads/2017/05/image-3.jpg
ORGANIZER;CN="Roofing%20Company":MAILTO:name@example.com
END:VEVENT
END:VCALENDAR